BEGIN:VCALENDAR
VERSION:2.0
METHOD:PUBLISH
X-WR-CALNAME: Calendario | Facultad de Filosofía y Letras - UBA
PRODID:-//Drupal iCal API//EN
BEGIN:VEVENT
UID:calendar.1431.changed.0.0
SUMMARY:Actas de Juntas
DTSTAMP:20260424T211923Z
DTSTART:20260424Z
DTEND:20260424Z
1777056214
URL;VALUE=URI:https://geografia.filo.uba.ar/actas-de-juntas
END:VEVENT
BEGIN:VEVENT
UID:calendar.1003.changed.0.1
SUMMARY:Junta Departamental
DTSTAMP:20260424T211923Z
DTSTART:20260424Z
DTEND:20260424Z
1777056655
URL;VALUE=URI:https://geografia.filo.uba.ar/junta-departamental
END:VEVENT
END:VCALENDAR
